BEGIN:VCALENDAR
VERSION:2.0
PRODID:-//Lifespark Production - ECPv6.15.20//NONSGML v1.0//EN
CALSCALE:GREGORIAN
METHOD:PUBLISH
X-ORIGINAL-URL:https://lifesparknow.org
X-WR-CALDESC:Events for Lifespark Production
REFRESH-INTERVAL;VALUE=DURATION:PT1H
X-Robots-Tag:noindex
X-PUBLISHED-TTL:PT1H
BEGIN:VTIMEZONE
TZID:America/Denver
BEGIN:DAYLIGHT
TZOFFSETFROM:-0700
TZOFFSETTO:-0600
TZNAME:MDT
DTSTART:20250309T090000
END:DAYLIGHT
BEGIN:STANDARD
TZOFFSETFROM:-0600
TZOFFSETTO:-0700
TZNAME:MST
DTSTART:20251102T080000
END:STANDARD
BEGIN:DAYLIGHT
TZOFFSETFROM:-0700
TZOFFSETTO:-0600
TZNAME:MDT
DTSTART:20260308T090000
END:DAYLIGHT
BEGIN:STANDARD
TZOFFSETFROM:-0600
TZOFFSETTO:-0700
TZNAME:MST
DTSTART:20261101T080000
END:STANDARD
BEGIN:DAYLIGHT
TZOFFSETFROM:-0700
TZOFFSETTO:-0600
TZNAME:MDT
DTSTART:20270314T090000
END:DAYLIGHT
BEGIN:STANDARD
TZOFFSETFROM:-0600
TZOFFSETTO:-0700
TZNAME:MST
DTSTART:20271107T080000
END:STANDARD
END:VTIMEZONE
BEGIN:VEVENT
DTSTART;TZID=America/Denver:20260810T180000
DTEND;TZID=America/Denver:20260810T190000
DTSTAMP:20260423T044206
CREATED:20251208T172342Z
LAST-MODIFIED:20260203T024213Z
UID:5148-1786384800-1786388400@lifesparknow.org
SUMMARY:Day of Gratitude Thank You Event - Virtual
DESCRIPTION:Save the Date for this annual thank you event for LifeSpark providers – held virtually over Zoom.  We will recognize you for your amazing work\, will also have a group healing meditation\, and will give you a chance to meet and connect with other LifeSpark providers.  This is a great chance to be part of the amazing LifeSpark community and receive the recognition that you deserve for your incredible healing work.
URL:https://lifesparknow.org/event/day-of-gratitude-thank-you-event-virtual/
LOCATION:Online
CATEGORIES:Provider Events
ATTACH;FMTTYPE=image/jpeg:https://lifesparknow.org/wp-content/uploads/2023/03/Day-of-Gratitude-square2.jpg
END:VEVENT
END:VCALENDAR