BEGIN:VCALENDAR
VERSION:2.0
PRODID:-//Lifespark Production - ECPv6.15.20//NONSGML v1.0//EN
CALSCALE:GREGORIAN
METHOD:PUBLISH
X-ORIGINAL-URL:https://lifesparknow.org
X-WR-CALDESC:Events for Lifespark Production
REFRESH-INTERVAL;VALUE=DURATION:PT1H
X-Robots-Tag:noindex
X-PUBLISHED-TTL:PT1H
BEGIN:VTIMEZONE
TZID:America/Denver
BEGIN:DAYLIGHT
TZOFFSETFROM:-0700
TZOFFSETTO:-0600
TZNAME:MDT
DTSTART:20250309T090000
END:DAYLIGHT
BEGIN:STANDARD
TZOFFSETFROM:-0600
TZOFFSETTO:-0700
TZNAME:MST
DTSTART:20251102T080000
END:STANDARD
BEGIN:DAYLIGHT
TZOFFSETFROM:-0700
TZOFFSETTO:-0600
TZNAME:MDT
DTSTART:20260308T090000
END:DAYLIGHT
BEGIN:STANDARD
TZOFFSETFROM:-0600
TZOFFSETTO:-0700
TZNAME:MST
DTSTART:20261101T080000
END:STANDARD
BEGIN:DAYLIGHT
TZOFFSETFROM:-0700
TZOFFSETTO:-0600
TZNAME:MDT
DTSTART:20270314T090000
END:DAYLIGHT
BEGIN:STANDARD
TZOFFSETFROM:-0600
TZOFFSETTO:-0700
TZNAME:MST
DTSTART:20271107T080000
END:STANDARD
END:VTIMEZONE
BEGIN:VEVENT
DTSTART;TZID=America/Denver:20260905T090000
DTEND;TZID=America/Denver:20260905T130000
DTSTAMP:20260423T044212
CREATED:20251203T004525Z
LAST-MODIFIED:20251203T030544Z
UID:5101-1788598800-1788613200@lifesparknow.org
SUMMARY:Provider Training
DESCRIPTION:Offer your Reiki or Healing Touch gifts and be matched for weekly sessions with an individual with cancer.   Experience the deep fulfillment of supporting someone with cancer. \nLifeSpark Training Includes:  Live Interactive Session on Zoom (4 hours)\, and  Self-Paced Learning Experience (4-6 hours). \nRequirements:  You must already be trained in Reiki or Healing Touch (Minimum Level II or Second Degree)\, and have given at least 50 full sessions. \nCLICK HERE TO FOR FULL DETAILS
URL:https://lifesparknow.org/event/provider-training-3/
LOCATION:Online
CATEGORIES:Main Calendar
ATTACH;FMTTYPE=image/jpeg:https://lifesparknow.org/wp-content/uploads/2024/01/Session-HandsAtSacralSolar-300x225-1.jpg
END:VEVENT
BEGIN:VEVENT
DTSTART;TZID=America/Denver:20260905T090000
DTEND;TZID=America/Denver:20260905T130000
DTSTAMP:20260423T044212
CREATED:20251203T005536Z
LAST-MODIFIED:20251203T014210Z
UID:5109-1788598800-1788613200@lifesparknow.org
SUMMARY:Repeater Training
DESCRIPTION:Refresh Your Skills. Renew Your Connection.\nAs an active LifeSpark provider\, you are required to retake the LifeSpark training every three years. This ensures that all providers are current\, consistent\, and confident in offering the highest level of care to our participants.\nThe new format makes it easier than ever: \n\nLive Interactive Zoom Training (4 hours)\nSelf-Paced Learning (3-5 hours)\n\nThis refresher course is not just about requirements – its an opportunity to deepen your practice\, reconnect with LifeSpark’s mission\, and renew the joy of supporting those facing cancer. \nPlease email Sandy@lifesparknow.org at least a week in advance of the training to be included.  
URL:https://lifesparknow.org/event/repeater-training-3/
LOCATION:Online
CATEGORIES:Provider Events
ATTACH;FMTTYPE=image/jpeg:https://lifesparknow.org/wp-content/uploads/2023/02/Session-HandsAtSacralSolar-scaled.jpg
END:VEVENT
END:VCALENDAR