BEGIN:VCALENDAR
VERSION:2.0
PRODID:-//Lifespark Production - ECPv6.15.17//NONSGML v1.0//EN
CALSCALE:GREGORIAN
METHOD:PUBLISH
X-WR-CALNAME:Lifespark Production
X-ORIGINAL-URL:https://lifesparknow.org
X-WR-CALDESC:Events for Lifespark Production
REFRESH-INTERVAL;VALUE=DURATION:PT1H
X-Robots-Tag:noindex
X-PUBLISHED-TTL:PT1H
BEGIN:VTIMEZONE
TZID:America/Denver
BEGIN:DAYLIGHT
TZOFFSETFROM:-0700
TZOFFSETTO:-0600
TZNAME:MDT
DTSTART:20250309T090000
END:DAYLIGHT
BEGIN:STANDARD
TZOFFSETFROM:-0600
TZOFFSETTO:-0700
TZNAME:MST
DTSTART:20251102T080000
END:STANDARD
BEGIN:DAYLIGHT
TZOFFSETFROM:-0700
TZOFFSETTO:-0600
TZNAME:MDT
DTSTART:20260308T090000
END:DAYLIGHT
BEGIN:STANDARD
TZOFFSETFROM:-0600
TZOFFSETTO:-0700
TZNAME:MST
DTSTART:20261101T080000
END:STANDARD
BEGIN:DAYLIGHT
TZOFFSETFROM:-0700
TZOFFSETTO:-0600
TZNAME:MDT
DTSTART:20270314T090000
END:DAYLIGHT
BEGIN:STANDARD
TZOFFSETFROM:-0600
TZOFFSETTO:-0700
TZNAME:MST
DTSTART:20271107T080000
END:STANDARD
END:VTIMEZONE
BEGIN:VEVENT
DTSTART;TZID=America/Denver:20260518T180000
DTEND;TZID=America/Denver:20260518T183000
DTSTAMP:20260421T054719
CREATED:20251203T024556Z
LAST-MODIFIED:20251203T025657Z
UID:5125-1779127200-1779129000@lifesparknow.org
SUMMARY:Group Healing Meditation
DESCRIPTION:Unleash the Power of Collective Healing.  Let’s unite our intentions\, energy healing\, and prayers to create a wave of healing. Join our guided meditation to envision peace and restoration for those in need\, starting with LifeSpark’s cancer participants and expanding nationally and globally. \nREGISTER to receive the Zoom link and be part of this collective healing experience.  Together\, we are a powerful community harnessing the transformative force of love and healing. Let’s use it!
URL:https://lifesparknow.org/event/group-healing-meditation-6/
LOCATION:Online
CATEGORIES:Main Calendar,Provider Events
ATTACH;FMTTYPE=image/png:https://lifesparknow.org/wp-content/uploads/2025/03/Hands-around-World-Horiz.png
END:VEVENT
BEGIN:VEVENT
DTSTART;TZID=America/Denver:20260514T180000
DTEND;TZID=America/Denver:20260514T183000
DTSTAMP:20260421T054719
CREATED:20260113T053518Z
LAST-MODIFIED:20260204T145458Z
UID:5237-1778781600-1778783400@lifesparknow.org
SUMMARY:Provider Forum
DESCRIPTION:LifeSpark’s quarterly Provider Forum is a space for providers to connect\, share insights\, and discuss topics important to their work. Bring your questions\, ideas\, or suggestions\, and join a thoughtful conversation with other LifeSpark providers. These online gatherings are facilitated by a LifeSpark board member and offer an opportunity to strengthen community and support one another.\nWatch for the Zoom link in a LifeSpark email. 
URL:https://lifesparknow.org/event/provider-forum-2/
LOCATION:Online
CATEGORIES:Provider Events
ATTACH;FMTTYPE=image/jpeg:https://lifesparknow.org/wp-content/uploads/2025/07/Online-Zoom-Meeting-scaled.jpg
END:VEVENT
BEGIN:VEVENT
DTSTART;TZID=America/Denver:20260510T140000
DTEND;TZID=America/Denver:20260510T150000
DTSTAMP:20260421T054719
CREATED:20260203T021913Z
LAST-MODIFIED:20260314T160849Z
UID:5327-1778421600-1778425200@lifesparknow.org
SUMMARY:Reiki/Healing Touch Share: Online
DESCRIPTION:Our monthly online Reiki and Healing Touch share is a chance to practice\, receive healing\, and connect with a supportive community of practitioners. Whether you are newer to these modalities or deeply experienced\, this is a nourishing space to give and receive in community.Free to attend. RSVP to Judy at LifeSparkResources@gmail.com.
URL:https://lifesparknow.org/event/reiki-healing-touch-share/
LOCATION:Online
CATEGORIES:Provider Events
ATTACH;FMTTYPE=image/jpeg:https://lifesparknow.org/wp-content/uploads/2026/02/Exchange-hand-heart-artwork.jpg
END:VEVENT
BEGIN:VEVENT
DTSTART;TZID=America/Denver:20260502T090000
DTEND;TZID=America/Denver:20260502T130000
DTSTAMP:20260421T054719
CREATED:20251203T005700Z
LAST-MODIFIED:20251203T014239Z
UID:5111-1777712400-1777726800@lifesparknow.org
SUMMARY:Repeater Training
DESCRIPTION:Refresh Your Skills. Renew Your Connection.\nAs an active LifeSpark provider\, you are required to retake the LifeSpark training every three years. This ensures that all providers are current\, consistent\, and confident in offering the highest level of care to our participants.\nThe new format makes it easier than ever: \n\nLive Interactive Zoom Training (4 hours)\nSelf-Paced Learning (3-5 hours)\n\nThis refresher course is not just about requirements – its an opportunity to deepen your practice\, reconnect with LifeSpark’s mission\, and renew the joy of supporting those facing cancer. \nPlease email Sandy@lifesparknow.org at least a week in advance of the training to be included.  
URL:https://lifesparknow.org/event/repeater-training-4/
LOCATION:Online
CATEGORIES:Provider Events
ATTACH;FMTTYPE=image/jpeg:https://lifesparknow.org/wp-content/uploads/2024/01/Session-HandsAtSacralSolar-300x225-1.jpg
END:VEVENT
BEGIN:VEVENT
DTSTART;TZID=America/Denver:20260502T090000
DTEND;TZID=America/Denver:20260502T130000
DTSTAMP:20260421T054719
CREATED:20251203T004423Z
LAST-MODIFIED:20251203T004933Z
UID:5099-1777712400-1777726800@lifesparknow.org
SUMMARY:Provider Training
DESCRIPTION:Offer your Reiki or Healing Touch gifts and be matched for weekly sessions with an individual with cancer.   Experience the deep fulfillment of supporting someone with cancer. \nLifeSpark Training Includes:  Live Interactive Session on Zoom (4 hours)\, and  Self-Paced Learning Experience (4-6 hours). \nRequirements:  You must already be trained in Reiki or Healing Touch (Minimum Level II or Second Degree)\, and have given at least 50 full sessions. \nCLICK HERE TO FOR FULL DETAILS
URL:https://lifesparknow.org/event/provider-training-2/
LOCATION:Online
CATEGORIES:Main Calendar
ATTACH;FMTTYPE=image/jpeg:https://lifesparknow.org/wp-content/uploads/2024/01/Session-HandsAtSacralSolar-300x225-1.jpg
END:VEVENT
BEGIN:VEVENT
DTSTART;TZID=America/Denver:20260420T180000
DTEND;TZID=America/Denver:20260420T183000
DTSTAMP:20260421T054719
CREATED:20251203T024442Z
LAST-MODIFIED:20251203T025711Z
UID:5123-1776708000-1776709800@lifesparknow.org
SUMMARY:Group Healing Meditation
DESCRIPTION:Unleash the Power of Collective Healing.  Let’s unite our intentions\, energy healing\, and prayers to create a wave of healing. Join our guided meditation to envision peace and restoration for those in need\, starting with LifeSpark’s cancer participants and expanding nationally and globally. \nREGISTER to receive the Zoom link and be part of this collective healing experience.  Together\, we are a powerful community harnessing the transformative force of love and healing. Let’s use it!
URL:https://lifesparknow.org/event/group-healing-meditation-5/
LOCATION:Online
CATEGORIES:Main Calendar,Provider Events
ATTACH;FMTTYPE=image/png:https://lifesparknow.org/wp-content/uploads/2025/03/Hands-around-World-Horiz.png
END:VEVENT
BEGIN:VEVENT
DTSTART;VALUE=DATE:20260414
DTEND;VALUE=DATE:20260419
DTSTAMP:20260421T054719
CREATED:20260129T181240Z
LAST-MODIFIED:20260412T192204Z
UID:5277-1776124800-1776556799@lifesparknow.org
SUMMARY:Sparks Online Auction
DESCRIPTION:The Sparks Online Auction opens April 14 at 9:00 AM (MDT)\, and you’ll have five days to bid on 100+ amazing items—from getaways and dining to self-care\, experiences\, and unique gifts.  REGISTER \nThe auction closes Saturday\, April 18 at 7:00 PM. \nEvery bid supports LifeSpark’s free Reiki and Healing Touch sessions for people navigating cancer—turning everyday generosity into meaningful healing. \nGet registered. Share the link. Be ready to bid. \nREGISTER FOR THE AUCTION
URL:https://lifesparknow.org/event/sparks-online-auction/
LOCATION:Online
CATEGORIES:Main Calendar
ATTACH;FMTTYPE=image/png:https://lifesparknow.org/wp-content/uploads/2026/02/Sparks-Banner-w-Heart4.png
END:VEVENT
BEGIN:VEVENT
DTSTART;TZID=America/Denver:20260412T140000
DTEND;TZID=America/Denver:20260412T150000
DTSTAMP:20260421T054719
CREATED:20260203T021712Z
LAST-MODIFIED:20260314T161009Z
UID:5325-1776002400-1776006000@lifesparknow.org
SUMMARY:Reiki/Healing Touch Share: Online
DESCRIPTION:Our monthly online Reiki and Healing Touch share is a chance to practice\, receive healing\, and connect with a supportive community of practitioners. Whether you are newer to these modalities or deeply experienced\, this is a nourishing space to give and receive in community.Free to attend. RSVP to Judy at LifeSparkResources@gmail.com.
URL:https://lifesparknow.org/event/reiki-healing-touch-share-online-2/
LOCATION:Online
CATEGORIES:Provider Events
ATTACH;FMTTYPE=image/jpeg:https://lifesparknow.org/wp-content/uploads/2026/02/Exchange-hand-heart-artwork.jpg
END:VEVENT
END:VCALENDAR